BEGIN:VCALENDAR
VERSION:2.0
PRODID:-//Tukios.com/
BEGIN:VEVENT
UID:1ccac25e-ee67-4413-8dd6-2deedd17074e@www.pattersonfuneralhomemd.com
DTSTAMP:20260420T192140Z
DTSTART:20260424T230000Z
DTEND:20260425T010000Z
SUMMARY:Visitation
DESCRIPTION:
URL:https://www.pattersonfuneralhomemd.com/obituaries/linda-sewell-holder
LOCATION: 1493 Clayton St  Perryville MD 21903
GEO:39.5774518;-76.0674406
END:VEVENT
END:VCALENDAR