BEGIN:VCALENDAR
VERSION:2.0
PRODID:-//Tukios.com/
BEGIN:VEVENT
UID:9e695dc9-c116-40a3-99cf-c17bc723ba4b@www.pattersonfuneralhomemd.com
DTSTAMP:20260420T192303Z
DTSTART:20260425T150000Z
DTEND:20260425T160000Z
SUMMARY:Funeral Service
DESCRIPTION:
URL:https://www.pattersonfuneralhomemd.com/obituaries/linda-sewell-holder
LOCATION: 1493 Clayton St  Perryville MD 21903
GEO:39.5774518;-76.0674406
END:VEVENT
END:VCALENDAR