BEGIN:VCALENDAR
VERSION:2.0
PRODID:-//Tukios.com/
BEGIN:VEVENT
UID:9d1f1a89-c346-4166-bbbb-f5a895502098@www.pattersonfuneralhomemd.com
DTSTAMP:20260420T192440Z
DTSTART:20260425
SUMMARY:Interment
DESCRIPTION:
URL:https://www.pattersonfuneralhomemd.com/obituaries/linda-sewell-holder
LOCATION: 1811 Hopewell Road  Port Deposit MD 21904
GEO:39.6443702;-76.0606672
END:VEVENT
END:VCALENDAR