BEGIN:VCALENDAR
VERSION:2.0
PRODID:-//Tukios.com/
BEGIN:VEVENT
UID:28630f02-4a83-44ff-8435-0c773556ff3a@www.pattersonfuneralhomemd.com
DTSTAMP:20260421T012621Z
DTSTART:20260502T150000Z
DTEND:20260502T160000Z
SUMMARY:Visitation
DESCRIPTION:
URL:https://www.pattersonfuneralhomemd.com/obituaries/robert-taylor
LOCATION: 1493 Clayton St  Perryville MD 21903
GEO:39.5774518;-76.0674406
END:VEVENT
END:VCALENDAR