BEGIN:VCALENDAR
VERSION:2.0
PRODID:-//Tukios.com/
BEGIN:VEVENT
UID:b0ad0945-5da9-424a-b613-8a59c8eb1cc3@www.pattersonfuneralhomemd.com
DTSTAMP:20260421T012913Z
DTSTART:20260502T160000Z
DTEND:20260502T170000Z
SUMMARY:Funeral Service
DESCRIPTION:
URL:https://www.pattersonfuneralhomemd.com/obituaries/robert-taylor
LOCATION: 1493 Clayton St  Perryville MD 21903
GEO:39.5774518;-76.0674406
END:VEVENT
END:VCALENDAR