BEGIN:VCALENDAR
VERSION:2.0
PRODID:-//Tukios.com/
BEGIN:VEVENT
UID:0567b630-c08a-4ed2-9094-a2d0ee7d8d34@www.pattersonfuneralhomemd.com
DTSTAMP:20260424T023114Z
DTSTART:20260426T170000Z
DTEND:20260426T190000Z
SUMMARY:Visitation
DESCRIPTION:
URL:https://www.pattersonfuneralhomemd.com/obituaries/robert-warren-taylor
LOCATION:Lee A. Patterson & Son Funeral Home, P.A. 1493 Clayton Street  
	Perryville MD 21903
GEO:39.5774069;-76.0675192
END:VEVENT
END:VCALENDAR